BEGIN:VCALENDAR
VERSION:2.0
PRODID:-//D&#039;Arbonne Woods Charter School - ECPv6.15.20//NONSGML v1.0//EN
CALSCALE:GREGORIAN
METHOD:PUBLISH
X-ORIGINAL-URL:https://darbonnewoods.com
X-WR-CALDESC:Events for D&#039;Arbonne Woods Charter School
REFRESH-INTERVAL;VALUE=DURATION:PT1H
X-Robots-Tag:noindex
X-PUBLISHED-TTL:PT1H
BEGIN:VTIMEZONE
TZID:America/Chicago
BEGIN:DAYLIGHT
TZOFFSETFROM:-0600
TZOFFSETTO:-0500
TZNAME:CDT
DTSTART:20180311T080000
END:DAYLIGHT
BEGIN:STANDARD
TZOFFSETFROM:-0500
TZOFFSETTO:-0600
TZNAME:CST
DTSTART:20181104T070000
END:STANDARD
BEGIN:DAYLIGHT
TZOFFSETFROM:-0600
TZOFFSETTO:-0500
TZNAME:CDT
DTSTART:20190310T080000
END:DAYLIGHT
BEGIN:STANDARD
TZOFFSETFROM:-0500
TZOFFSETTO:-0600
TZNAME:CST
DTSTART:20191103T070000
END:STANDARD
BEGIN:DAYLIGHT
TZOFFSETFROM:-0600
TZOFFSETTO:-0500
TZNAME:CDT
DTSTART:20200308T080000
END:DAYLIGHT
BEGIN:STANDARD
TZOFFSETFROM:-0500
TZOFFSETTO:-0600
TZNAME:CST
DTSTART:20201101T070000
END:STANDARD
BEGIN:DAYLIGHT
TZOFFSETFROM:-0600
TZOFFSETTO:-0500
TZNAME:CDT
DTSTART:20210314T080000
END:DAYLIGHT
BEGIN:STANDARD
TZOFFSETFROM:-0500
TZOFFSETTO:-0600
TZNAME:CST
DTSTART:20211107T070000
END:STANDARD
END:VTIMEZONE
BEGIN:VEVENT
DTSTART;VALUE=DATE:20200131
DTEND;VALUE=DATE:20200201
DTSTAMP:20260420T084906
CREATED:20200115T155134Z
LAST-MODIFIED:20200115T155134Z
UID:1222-1580428800-1580515199@darbonnewoods.com
SUMMARY:Daddy Daughter Dance
DESCRIPTION:
URL:https://darbonnewoods.com/event/daddy-daughter-dance/
END:VEVENT
BEGIN:VEVENT
DTSTART;VALUE=DATE:20200128
DTEND;VALUE=DATE:20200129
DTSTAMP:20260420T084906
CREATED:20200106T172242Z
LAST-MODIFIED:20200106T172242Z
UID:1169-1580169600-1580255999@darbonnewoods.com
SUMMARY:Spelling Bee
DESCRIPTION:
URL:https://darbonnewoods.com/event/spelling-bee/
LOCATION:DWCS Boardroom
END:VEVENT
BEGIN:VEVENT
DTSTART;VALUE=DATE:20200117
DTEND;VALUE=DATE:20200118
DTSTAMP:20260420T084906
CREATED:20200106T172353Z
LAST-MODIFIED:20200106T172353Z
UID:1172-1579219200-1579305599@darbonnewoods.com
SUMMARY:Social Studies Fair
DESCRIPTION:
URL:https://darbonnewoods.com/event/social-studies-fair/
END:VEVENT
BEGIN:VEVENT
DTSTART;VALUE=DATE:20191206
DTEND;VALUE=DATE:20191207
DTSTAMP:20260420T084906
CREATED:20191202T200807Z
LAST-MODIFIED:20191202T201203Z
UID:1004-1575590400-1575676799@darbonnewoods.com
SUMMARY:No School (Go Support UPHS for their playoff game at St. James)
DESCRIPTION:Per Union Parish SB:\nUnion Parish schools\, DWCS\, and UCA will not have school this Friday\, December 6th to allow students and teachers the opportunity to attend the UPHS playoff game at St. James.
URL:https://darbonnewoods.com/event/no-school-go-support-uphs-for-their-playoff-game-at-st-james/
LOCATION:NO SCHOOL
END:VEVENT
BEGIN:VEVENT
DTSTART;VALUE=DATE:20191125
DTEND;VALUE=DATE:20191130
DTSTAMP:20260420T084906
CREATED:20191007T222741Z
LAST-MODIFIED:20191108T001242Z
UID:741-1574640000-1575071999@darbonnewoods.com
SUMMARY:THANKSGIVING BREAK (NO SCHOOL)
DESCRIPTION:
URL:https://darbonnewoods.com/event/thanksgiving-break/
LOCATION:NO SCHOOL
END:VEVENT
BEGIN:VEVENT
DTSTART;VALUE=DATE:20191111
DTEND;VALUE=DATE:20191112
DTSTAMP:20260420T084906
CREATED:20191007T222612Z
LAST-MODIFIED:20191108T001224Z
UID:739-1573430400-1573516799@darbonnewoods.com
SUMMARY:VETERANS DAY (NO SCHOOL)
DESCRIPTION:
URL:https://darbonnewoods.com/event/veterans-day/
LOCATION:NO SCHOOL
END:VEVENT
BEGIN:VEVENT
DTSTART;VALUE=DATE:20191109
DTEND;VALUE=DATE:20191110
DTSTAMP:20260420T084906
CREATED:20191007T222527Z
LAST-MODIFIED:20191008T143531Z
UID:737-1573257600-1573343999@darbonnewoods.com
SUMMARY:HOMECOMING DANCE (9-12 ONLY)
DESCRIPTION:
URL:https://darbonnewoods.com/event/homecoming-dance-9-12-only/
LOCATION:DWCS GYM
END:VEVENT
BEGIN:VEVENT
DTSTART;TZID=America/Chicago:20191108T100000
DTEND;TZID=America/Chicago:20191108T100000
DTSTAMP:20260420T084906
CREATED:20191007T222359Z
LAST-MODIFIED:20191108T000854Z
UID:734-1573207200-1573207200@darbonnewoods.com
SUMMARY:HOMECOMING CORONATION
DESCRIPTION:
URL:https://darbonnewoods.com/event/homecoming-coronation/
LOCATION:DWCS GYM
END:VEVENT
BEGIN:VEVENT
DTSTART;VALUE=DATE:20191031
DTEND;VALUE=DATE:20191101
DTSTAMP:20260420T084906
CREATED:20191025T211523Z
LAST-MODIFIED:20191025T211739Z
UID:792-1572480000-1572566399@darbonnewoods.com
SUMMARY:BOOK CHARACTER DRESS UP (K-5)
DESCRIPTION:
URL:https://darbonnewoods.com/event/book-character-dress-up-k-5/
LOCATION:No scary costumes\, please.
END:VEVENT
BEGIN:VEVENT
DTSTART;VALUE=DATE:20191014
DTEND;VALUE=DATE:20191016
DTSTAMP:20260420T084906
CREATED:20191007T221842Z
LAST-MODIFIED:20191007T221842Z
UID:730-1571011200-1571183999@darbonnewoods.com
SUMMARY:FALL BREAK
DESCRIPTION:
URL:https://darbonnewoods.com/event/fall-break/
LOCATION:NO SCHOOL
END:VEVENT
END:VCALENDAR